BEGIN:VCALENDAR
VERSION:2.0
PRODID:-//time.you/holidays//NONSGML v1.0//EN
BEGIN:VEVENT
UID:05164547-eac8-47fe-9f1b-38da6db76689
DTSTAMP:20260421T071418Z
DTSTART;VALUE=DATE:20260525
SUMMARY:Whit Monday (Norway)
END:VEVENT
END:VCALENDAR