BEGIN:VCALENDAR
VERSION:2.0
PRODID:-//time.you/holidays//NONSGML v1.0//EN
BEGIN:VEVENT
UID:7ecbd494-b15d-49ac-a6e8-6ab04a537dbe
DTSTAMP:20260422T071200Z
DTSTART;VALUE=DATE:20260320
SUMMARY:Eid al-Fitr (estimated) (Oman)
END:VEVENT
END:VCALENDAR