BEGIN:VCALENDAR
VERSION:2.0
PRODID:-//time.you/holidays//NONSGML v1.0//EN
BEGIN:VEVENT
UID:e914978c-77e4-4be1-bf19-2eeb4612022b
DTSTAMP:20260420T024533Z
DTSTART;VALUE=DATE:20260616
SUMMARY:Islamic New Year (estimated) (Oman)
END:VEVENT
END:VCALENDAR