BEGIN:VCALENDAR
VERSION:2.0
PRODID:-//time.you/holidays//NONSGML v1.0//EN
BEGIN:VEVENT
UID:c523b30d-7749-48d2-b6ed-e75dd9ab3239
DTSTAMP:20260424T173240Z
DTSTART;VALUE=DATE:20261120
SUMMARY:National Day (Oman)
END:VEVENT
END:VCALENDAR