BEGIN:VCALENDAR
VERSION:2.0
PRODID:-//time.you/holidays//NONSGML v1.0//EN
BEGIN:VEVENT
UID:44287a10-9232-4f80-8bc7-14d13a5a4858
DTSTAMP:20260420T050527Z
DTSTART;VALUE=DATE:20260825
SUMMARY:Prophet's Birthday (estimated) (Oman)
END:VEVENT
END:VCALENDAR