BEGIN:VCALENDAR
VERSION:2.0
PRODID:-//time.you/holidays//NONSGML v1.0//EN
BEGIN:VEVENT
UID:31d6273b-283a-4722-98eb-8a385ab5efe5
DTSTAMP:20260419T205224Z
DTSTART;VALUE=DATE:20260624
SUMMARY:Ashura (estimated) (Pakistan)
END:VEVENT
END:VCALENDAR