BEGIN:VCALENDAR
VERSION:2.0
PRODID:-//time.you/holidays//NONSGML v1.0//EN
BEGIN:VEVENT
UID:b3d1d531-524d-4db3-9651-3564d5f4e021
DTSTAMP:20260423T124525Z
DTSTART;VALUE=DATE:20250705
SUMMARY:Ashura (Pakistan)
END:VEVENT
END:VCALENDAR