BEGIN:VCALENDAR
VERSION:2.0
PRODID:-//time.you/holidays//NONSGML v1.0//EN
BEGIN:VEVENT
UID:0575ef00-cdc5-4c37-9098-09902bf7b32a
DTSTAMP:20260420T132302Z
DTSTART;VALUE=DATE:20260814
SUMMARY:Independence Day (Pakistan)
END:VEVENT
END:VCALENDAR