BEGIN:VCALENDAR
VERSION:2.0
PRODID:-//time.you/holidays//NONSGML v1.0//EN
BEGIN:VEVENT
UID:8da0e80d-36a5-401c-b052-ca0174227945
DTSTAMP:20260421T164232Z
DTSTART;VALUE=DATE:20260501
SUMMARY:Labor Day (Pakistan)
END:VEVENT
END:VCALENDAR