BEGIN:VCALENDAR
VERSION:2.0
PRODID:-//time.you/holidays//NONSGML v1.0//EN
BEGIN:VEVENT
UID:f52df0d6-11db-4de8-8ffb-93841113e0d0
DTSTAMP:20260422T064342Z
DTSTART;VALUE=DATE:20270528
SUMMARY:Youm-e-Takbeer (Pakistan)
END:VEVENT
END:VCALENDAR