BEGIN:VCALENDAR
VERSION:2.0
PRODID:-//time.you/holidays//NONSGML v1.0//EN
BEGIN:VEVENT
UID:0c28704d-e562-4706-b85c-498415771c03
DTSTAMP:20260422T033128Z
DTSTART;VALUE=DATE:20280710
SUMMARY:Constitution Day (observed) (Palau)
END:VEVENT
END:VCALENDAR