BEGIN:VCALENDAR
VERSION:2.0
PRODID:-//time.you/holidays//NONSGML v1.0//EN
BEGIN:VEVENT
UID:1e310e12-8893-45fe-bcc8-57b2c79c9e69
DTSTAMP:20260424T062310Z
DTSTART;VALUE=DATE:20260709
SUMMARY:Constitution Day (Palau)
END:VEVENT
END:VCALENDAR