BEGIN:VCALENDAR
VERSION:2.0
PRODID:-//time.you/holidays//NONSGML v1.0//EN
BEGIN:VEVENT
UID:a20fae87-9bfb-4864-ba0e-1c72d102fb77
DTSTAMP:20260422T034557Z
DTSTART;VALUE=DATE:20281002
SUMMARY:Independence Day (observed) (Palau)
END:VEVENT
END:VCALENDAR