BEGIN:VCALENDAR
VERSION:2.0
PRODID:-//time.you/holidays//NONSGML v1.0//EN
BEGIN:VEVENT
UID:8e4de306-3b27-4e2b-b989-945e4d679a9a
DTSTAMP:20260422T071252Z
DTSTART;VALUE=DATE:20300531
SUMMARY:President's Day (observed) (Palau)
END:VEVENT
END:VCALENDAR