BEGIN:VCALENDAR
VERSION:2.0
PRODID:-//time.you/holidays//NONSGML v1.0//EN
BEGIN:VEVENT
UID:ba46fcaf-d36a-421c-8fcb-5731e0b4b9c6
DTSTAMP:20260421T185014Z
DTSTART;VALUE=DATE:20260601
SUMMARY:President's Day (Palau)
END:VEVENT
END:VCALENDAR