BEGIN:VCALENDAR
VERSION:2.0
PRODID:-//time.you/holidays//NONSGML v1.0//EN
BEGIN:VEVENT
UID:72fb4ac1-774b-4693-95f9-a829f641ca69
DTSTAMP:20260422T025100Z
DTSTART;VALUE=DATE:20290504
SUMMARY:Senior Citizens Day (observed) (Palau)
END:VEVENT
END:VCALENDAR