BEGIN:VCALENDAR
VERSION:2.0
PRODID:-//time.you/holidays//NONSGML v1.0//EN
BEGIN:VEVENT
UID:3b731f01-2eb3-4273-b47a-7db3037a9fd8
DTSTAMP:20260420T165054Z
DTSTART;VALUE=DATE:20261023
SUMMARY:United Nations Day (observed) (Palau)
END:VEVENT
END:VCALENDAR