BEGIN:VCALENDAR
VERSION:2.0
PRODID:-//time.you/holidays//NONSGML v1.0//EN
BEGIN:VEVENT
UID:fa7b7e35-ad4b-41f2-91cb-c2bb70ee6cb4
DTSTAMP:20260421T184137Z
DTSTART;VALUE=DATE:20261024
SUMMARY:United Nations Day (Palau)
END:VEVENT
END:VCALENDAR