BEGIN:VCALENDAR
VERSION:2.0
PRODID:-//time.you/holidays//NONSGML v1.0//EN
BEGIN:VEVENT
UID:f58d591a-3023-43ef-be7b-1f76043d2a5e
DTSTAMP:20260420T142319Z
DTSTART;VALUE=DATE:20260316
SUMMARY:Youth Day (observed) (Palau)
END:VEVENT
END:VCALENDAR