BEGIN:VCALENDAR
VERSION:2.0
PRODID:-//time.you/holidays//NONSGML v1.0//EN
BEGIN:VEVENT
UID:212c37ad-649c-4a7e-9bad-107a320c8b76
DTSTAMP:20260421T210936Z
DTSTART;VALUE=DATE:20260616
SUMMARY:Hijri New Year (Palestine)
END:VEVENT
END:VCALENDAR