BEGIN:VCALENDAR
VERSION:2.0
PRODID:-//time.you/holidays//NONSGML v1.0//EN
BEGIN:VEVENT
UID:cbbc5626-37e9-4703-88a7-fe29c671c391
DTSTAMP:20260420T094918Z
DTSTART;VALUE=DATE:20260501
SUMMARY:Labor Day (Palestine)
END:VEVENT
END:VCALENDAR