BEGIN:VCALENDAR
VERSION:2.0
PRODID:-//time.you/holidays//NONSGML v1.0//EN
BEGIN:VEVENT
UID:398d3a53-86c8-4cf3-ba68-0a2a57adfe3d
DTSTAMP:20260421T122908Z
DTSTART;VALUE=DATE:20260825
SUMMARY:Prophet's Birthday (Palestine)
END:VEVENT
END:VCALENDAR