BEGIN:VCALENDAR
VERSION:2.0
PRODID:-//time.you/holidays//NONSGML v1.0//EN
BEGIN:VEVENT
UID:398b83b1-c726-4852-9ac4-59775d8acd07
DTSTAMP:20260420T013928Z
DTSTART;VALUE=DATE:20261225
SUMMARY:Christmas Day (Panama)
END:VEVENT
END:VCALENDAR