BEGIN:VCALENDAR
VERSION:2.0
PRODID:-//time.you/holidays//NONSGML v1.0//EN
BEGIN:VEVENT
UID:5986b409-fdaf-49de-a01d-7dd58f374b36
DTSTAMP:20260421T022547Z
DTSTART;VALUE=DATE:20271129
SUMMARY:Independence Day (observed) (Panama)
END:VEVENT
END:VCALENDAR