BEGIN:VCALENDAR
VERSION:2.0
PRODID:-//time.you/holidays//NONSGML v1.0//EN
BEGIN:VEVENT
UID:284000d1-658d-4208-a16d-8ad542f385a9
DTSTAMP:20260421T082329Z
DTSTART;VALUE=DATE:20260501
SUMMARY:Labor Day (Panama)
END:VEVENT
END:VCALENDAR