BEGIN:VCALENDAR
VERSION:2.0
PRODID:-//time.you/holidays//NONSGML v1.0//EN
BEGIN:VEVENT
UID:d3e71132-efcc-4b0b-9381-ea5573851b68
DTSTAMP:20260420T080839Z
DTSTART;VALUE=DATE:20301111
SUMMARY:Los Santos Uprising Day (observed) (Panama)
END:VEVENT
END:VCALENDAR