BEGIN:VCALENDAR
VERSION:2.0
PRODID:-//time.you/holidays//NONSGML v1.0//EN
BEGIN:VEVENT
UID:b51f207b-29e5-4ac4-8c41-1ec0fbfe2ca1
DTSTAMP:20260421T235223Z
DTSTART;VALUE=DATE:20301209
SUMMARY:Mother's Day (observed) (Panama)
END:VEVENT
END:VCALENDAR