BEGIN:VCALENDAR
VERSION:2.0
PRODID:-//time.you/holidays//NONSGML v1.0//EN
BEGIN:VEVENT
UID:d2ba8d5e-5e45-4231-a5fc-dcd4789dca98
DTSTAMP:20260421T215147Z
DTSTART;VALUE=DATE:20340102
SUMMARY:New Year's Day (observed) (Panama)
END:VEVENT
END:VCALENDAR