BEGIN:VCALENDAR
VERSION:2.0
PRODID:-//time.you/holidays//NONSGML v1.0//EN
BEGIN:VEVENT
UID:120d4d27-61a0-4966-9a58-5bbf52cfaf68
DTSTAMP:20260421T073125Z
DTSTART;VALUE=DATE:20301104
SUMMARY:Separation Day (observed) (Panama)
END:VEVENT
END:VCALENDAR