BEGIN:VCALENDAR
VERSION:2.0
PRODID:-//time.you/holidays//NONSGML v1.0//EN
BEGIN:VEVENT
UID:af85bb37-831b-4a23-81fe-a3d452cb7026
DTSTAMP:20260420T165058Z
DTSTART;VALUE=DATE:20261226
SUMMARY:Boxing Day (Papua New Guinea)
END:VEVENT
END:VCALENDAR