BEGIN:VCALENDAR
VERSION:2.0
PRODID:-//time.you/holidays//NONSGML v1.0//EN
BEGIN:VEVENT
UID:04e92c93-bbe5-44d5-961d-807da864993d
DTSTAMP:20260420T013828Z
DTSTART;VALUE=DATE:20261225
SUMMARY:Christmas Day (Papua New Guinea)
END:VEVENT
END:VCALENDAR