BEGIN:VCALENDAR
VERSION:2.0
PRODID:-//time.you/holidays//NONSGML v1.0//EN
BEGIN:VEVENT
UID:3e8c8b8e-046f-4029-bfe9-356fdbb5176b
DTSTAMP:20260422T070641Z
DTSTART;VALUE=DATE:20230408
SUMMARY:Easter Saturday (Papua New Guinea)
END:VEVENT
END:VCALENDAR