BEGIN:VCALENDAR
VERSION:2.0
PRODID:-//time.you/holidays//NONSGML v1.0//EN
BEGIN:VEVENT
UID:68903f00-ae0b-4af6-86e0-e246e64c4115
DTSTAMP:20260422T070532Z
DTSTART;VALUE=DATE:20260916
SUMMARY:Independence Day (Papua New Guinea)
END:VEVENT
END:VCALENDAR