BEGIN:VCALENDAR
VERSION:2.0
PRODID:-//time.you/holidays//NONSGML v1.0//EN
BEGIN:VEVENT
UID:14771532-d1fe-421f-9726-af16acbc4829
DTSTAMP:20260420T010823Z
DTSTART;VALUE=DATE:20260617
SUMMARY:King's Birthday (Papua New Guinea)
END:VEVENT
END:VCALENDAR