BEGIN:VCALENDAR
VERSION:2.0
PRODID:-//time.you/holidays//NONSGML v1.0//EN
BEGIN:VEVENT
UID:49296815-e9b3-4d79-9995-8019ea762f9f
DTSTAMP:20260424T164721Z
DTSTART;VALUE=DATE:20210301
SUMMARY:National Day of Mourning for Sir Michael Somare (Papua New Guinea)
END:VEVENT
END:VCALENDAR