BEGIN:VCALENDAR
VERSION:2.0
PRODID:-//time.you/holidays//NONSGML v1.0//EN
BEGIN:VEVENT
UID:a9e44f3f-bca4-464f-ba8a-bb8a0c1fd20f
DTSTAMP:20260424T093646Z
DTSTART;VALUE=DATE:20340102
SUMMARY:New Year's Day (observed) (Papua New Guinea)
END:VEVENT
END:VCALENDAR