BEGIN:VCALENDAR
VERSION:2.0
PRODID:-//time.you/holidays//NONSGML v1.0//EN
BEGIN:VEVENT
UID:8ec7a5c4-9659-4d1b-83b9-8a555ac7a928
DTSTAMP:20260424T034253Z
DTSTART;VALUE=DATE:20230418
SUMMARY:State Funeral of Sir Rabbie Namaliu (Papua New Guinea)
END:VEVENT
END:VCALENDAR