BEGIN:VCALENDAR
VERSION:2.0
PRODID:-//time.you/holidays//NONSGML v1.0//EN
BEGIN:VEVENT
UID:399973b6-b71a-4916-8c98-9bbc2d6d9403
DTSTAMP:20260420T093323Z
DTSTART;VALUE=DATE:20260929
SUMMARY:Boqueron Battle Day (Paraguay)
END:VEVENT
END:VCALENDAR