BEGIN:VCALENDAR
VERSION:2.0
PRODID:-//time.you/holidays//NONSGML v1.0//EN
BEGIN:VEVENT
UID:d32aa80c-7cf8-401e-afbe-1f8f8607e47a
DTSTAMP:20260421T175827Z
DTSTART;VALUE=DATE:20260405
SUMMARY:Easter Sunday (Paraguay)
END:VEVENT
END:VCALENDAR