BEGIN:VCALENDAR
VERSION:2.0
PRODID:-//time.you/holidays//NONSGML v1.0//EN
BEGIN:VEVENT
UID:33aee674-d4e5-48d3-9f80-295a93dafe9f
DTSTAMP:20260420T095143Z
DTSTART;VALUE=DATE:20260403
SUMMARY:Good Friday (Paraguay)
END:VEVENT
END:VCALENDAR