BEGIN:VCALENDAR
VERSION:2.0
PRODID:-//time.you/holidays//NONSGML v1.0//EN
BEGIN:VEVENT
UID:430586df-bcba-41ce-b160-4df2d2870846
DTSTAMP:20260420T162455Z
DTSTART;VALUE=DATE:20260515
SUMMARY:Independence Day (Paraguay)
END:VEVENT
END:VCALENDAR