BEGIN:VCALENDAR
VERSION:2.0
PRODID:-//time.you/holidays//NONSGML v1.0//EN
BEGIN:VEVENT
UID:222df5b6-d12e-41eb-9dd0-5270ca1c3db4
DTSTAMP:20260420T141652Z
DTSTART;VALUE=DATE:20260402
SUMMARY:Maundy Thursday (Paraguay)
END:VEVENT
END:VCALENDAR