BEGIN:VCALENDAR
VERSION:2.0
PRODID:-//time.you/holidays//NONSGML v1.0//EN
BEGIN:VEVENT
UID:e7b06ef5-5cbe-422a-943a-37af275a7074
DTSTAMP:20260421T185703Z
DTSTART;VALUE=DATE:20260514
SUMMARY:National Holiday (Paraguay)
END:VEVENT
END:VCALENDAR