BEGIN:VCALENDAR
VERSION:2.0
PRODID:-//time.you/holidays//NONSGML v1.0//EN
BEGIN:VEVENT
UID:14111b5a-6796-4247-8f43-a38d50eeae59
DTSTAMP:20260420T072145Z
DTSTART;VALUE=DATE:20260607
SUMMARY:Battle of Arica and Flag Day (Peru)
END:VEVENT
END:VCALENDAR