BEGIN:VCALENDAR
VERSION:2.0
PRODID:-//time.you/holidays//NONSGML v1.0//EN
BEGIN:VEVENT
UID:ad538f5e-7424-409e-a119-b41e027487cc
DTSTAMP:20260423T133700Z
DTSTART;VALUE=DATE:20260405
SUMMARY:Easter Sunday (Peru)
END:VEVENT
END:VCALENDAR