BEGIN:VCALENDAR
VERSION:2.0
PRODID:-//time.you/holidays//NONSGML v1.0//EN
BEGIN:VEVENT
UID:b5a6a89c-e743-43eb-b9da-196d64e0cfcf
DTSTAMP:20260420T083654Z
DTSTART;VALUE=DATE:20260101
SUMMARY:New Year's Day (Peru)
END:VEVENT
END:VCALENDAR