BEGIN:VCALENDAR
VERSION:2.0
PRODID:-//time.you/holidays//NONSGML v1.0//EN
BEGIN:VEVENT
UID:d469c023-f8ed-45f5-ba93-0ed0e42f0d2c
DTSTAMP:20260421T013039Z
DTSTART;VALUE=DATE:20260723
SUMMARY:Peruvian Air Force Day (Peru)
END:VEVENT
END:VCALENDAR