BEGIN:VCALENDAR
VERSION:2.0
PRODID:-//time.you/holidays//NONSGML v1.0//EN
BEGIN:VEVENT
UID:301a7d2f-c811-459c-83dc-3bc888998759
DTSTAMP:20260420T154825Z
DTSTART;VALUE=DATE:20260830
SUMMARY:Rose of Lima Day (Peru)
END:VEVENT
END:VCALENDAR