BEGIN:VCALENDAR
VERSION:2.0
PRODID:-//time.you/holidays//NONSGML v1.0//EN
BEGIN:VEVENT
UID:0d45788f-dfb6-4edf-990c-efb1273b81db
DTSTAMP:20260423T222954Z
DTSTART;VALUE=DATE:20250727
SUMMARY:Additional special (non-working) day (Philippines)
END:VEVENT
END:VCALENDAR