BEGIN:VCALENDAR
VERSION:2.0
PRODID:-//time.you/holidays//NONSGML v1.0//EN
BEGIN:VEVENT
UID:a2f668fe-130f-4e10-8674-3a919b61c3e4
DTSTAMP:20260420T125312Z
DTSTART;VALUE=DATE:20251031
SUMMARY:All Saints' Day Eve (Philippines)
END:VEVENT
END:VCALENDAR